BEGIN:VCALENDAR
VERSION:2.0
PRODID:-//ChamberMaster//Event Calendar 2.0//EN
METHOD:PUBLISH
X-PUBLISHED-TTL:P1H
REFRESH-INTERVAL:P1H
CALSCALE:GREGORIAN
BEGIN:VTIMEZONE
TZID:America/New_York
BEGIN:DAYLIGHT
RRULE:FREQ=YEARLY;BYMONTH=3;BYDAY=2SU
DTSTART:20070101T000000
TZOFFSETFROM:-0500
TZOFFSETTO:-0400
TZNAME:Eastern Daylight Time
END:DAYLIGHT
BEGIN:STANDARD
RRULE:FREQ=YEARLY;BYMONTH=11;BYDAY=1SU
DTSTART:20070101T000000
TZOFFSETFROM:-0400
TZOFFSETTO:-0500
TZNAME:Eastern Standard Time
END:STANDARD
END:VTIMEZONE
BEGIN:VEVENT
DTSTART;TZID=America/New_York:20260425T130000
DTEND;TZID=America/New_York:20260425T150000
X-MICROSOFT-CDO-ALLDAYEVENT:FALSE
SUMMARY:Code Ninjas Casting Call!
DESCRIPTION:Attention Thinkers\, Experimenters\, and Bright Young Minds! Now Casting a new Netflix Series! Now casting for Schooled! A groundbreaking new competition show from the campus of Mark Rober's CrunchLabs Academy.\n\nMark is inviting curious young minds\, ages9-17\, to compete in teams of two for a life- changing prize. Students may submit individually or as a duo. Teams can be classmates\, friends\, STEM program partners\, even family members. \n\nWho we are looking for:\nCreative Thinkers\nHands-On Builders\nCurious Problem Solvers\n\nRegister here: https://members.codeninjas.com/e/?uuid=69169318-e3e4-4025-956e-2c0b9f142d86
X-ALT-DESC;FMTTYPE=text/html:Attention Thinkers\, Experimenters\, and Bright Young Minds! Now Casting a new Netflix Series! Now casting for Schooled! A groundbreaking new competition show from the campus of Mark Rober's CrunchLabs Academy.\n\nMark is inviting curious young minds\, ages9-17\, to compete in teams of two for a life- changing prize. Students may submit individually or as a duo. Teams can be classmates\, friends\, STEM program partners\, even family members. \n\nWho we are looking for:\nCreative Thinkers\nHands-On Builders\nCurious Problem Solvers\n\nRegister here: https://members.codeninjas.com/e/?uuid=69169318-e3e4-4025-956e-2c0b9f142d86
LOCATION:150 E Pennsylvania Ave #410 DOWNINGTOWN PA 19335
UID:e.3722.1447859
SEQUENCE:3
DTSTAMP:20260425T194649Z
URL:https://members.dtownchamber.com/chamber-events/Details/code-ninjas-casting-call-1714800?sourceTypeId=Hub
END:VEVENT
END:VCALENDAR
